BEGIN:VCALENDAR
VERSION:2.0
PRODID:-//FoodMafia - ECPv4.6.26//NONSGML v1.0//EN
CALSCALE:GREGORIAN
METHOD:PUBLISH
X-WR-CALNAME:FoodMafia
X-ORIGINAL-URL:http://foodmafia.de
X-WR-CALDESC:Veranstaltungen für FoodMafia
BEGIN:VEVENT
DTSTART;TZID=Europe/Berlin:20170720T170000
DTEND;TZID=Europe/Berlin:20170720T230000
DTSTAMP:20260423T122957
CREATED:20170222T101845Z
LAST-MODIFIED:20170309T122851Z
UID:1807-1500570000-1500591600@foodmafia.de
SUMMARY:Bierfest Osnabrück
DESCRIPTION:ÖFFNUNGSZEITEN \nWir freuen uns\, Sie auf dem 4. Osnabrücker Bierfest an folgenden Zeiten zu begrüßen:  \nDonnerstag\, 20. Juli 2017 17 Uhr bis 23 Uhr\nFreitag\, 21. Juli 2017 17 Uhr bis 24 Uhr\nSamstag\, 22. Juli 2017 14 Uhr bis 24 Uhr \n\n\n	Ähnliche Beiträge\n
URL:http://foodmafia.de/event/bierfest-osnabrueck/
LOCATION:Marktplatz Osnabrück\, Wittekindstraße 17-19\, Osnabrück\, 49074\, DE
ATTACH;FMTTYPE=image/png:http://foodmafia.de/wp-content/uploads/2017/03/facebook_1807_bierfest-osnabrueck_image.png
END:VEVENT
END:VCALENDAR