BEGIN:VCALENDAR
VERSION:2.0
PRODID:-//FoodMafia - ECPv4.6.26//NONSGML v1.0//EN
CALSCALE:GREGORIAN
METHOD:PUBLISH
X-WR-CALNAME:FoodMafia
X-ORIGINAL-URL:http://foodmafia.de
X-WR-CALDESC:Veranstaltungen für FoodMafia
BEGIN:VEVENT
DTSTART;TZID=Europe/Berlin:20170901T160000
DTEND;TZID=Europe/Berlin:20170902T200000
DTSTAMP:20260420T035612
CREATED:20170227T094916Z
LAST-MODIFIED:20170309T122903Z
UID:1868-1504281600-1504382400@foodmafia.de
SUMMARY:Révoltés Festival
DESCRIPTION:RÉVOLTÉS FESTIVAL\nIRIE RÉVOLTÉS & GÄSTE \nFreitag\, 1. September 2017 | Gilde Parkbühne Hannover\nEinlass: 16:00 | Beginn: 17:00 Uhr  \nAlle Termine:\nam 02.09.2017 um 15:00 Uhr Einlass: 14:00 Uhr \n\n\n	Ähnliche Beiträge\n
URL:http://foodmafia.de/event/revoltes-festival/
LOCATION:Gilde Parkbühne Hannover\, Ferdinand-Wilhelm-Fricke-Weg 8\, Hanover\, 30169\, DE
ATTACH;FMTTYPE=image/png:http://foodmafia.de/wp-content/uploads/2017/03/facebook_1868_revoltes-festival_image.png
END:VEVENT
END:VCALENDAR